BEGIN:VCALENDAR
VERSION:2.0
PRODID:-//hacksw/handcal//NONSGML v1.0//EN
BEGIN:VEVENT
SUMMARY:Sortie balade a velo sur Bernay
UID:a38984df-9a35-44d0-a13a-ee10d479abf5
DTSTART:20260321T130000Z
DTEND:20260321T150000Z
LOCATION:Localisation   
CATEGORIES:Sportif
STATUS:
URL;VALUE=URI:https://cyclo-bernay.sportsregions.fr/evenements/2026/03/21/sortie-balade-a-velo-sur-bernay-2431163
END:VEVENT
END:VCALENDAR
