BEGIN:VCALENDAR
VERSION:2.0
PRODID:-//hacksw/handcal//NONSGML v1.0//EN
BEGIN:VEVENT
SUMMARY:RECO DE L'EURE
UID:c613c881-624a-4c87-a746-52181a7ac70f
DTSTART:20260411T100000Z
DTEND:20260411T160000Z
LOCATION:Localisation   
CATEGORIES:Sportif
STATUS:
URL;VALUE=URI:https://cyclo-bernay.sportsregions.fr/evenements/2026/04/11/reco-de-leure-2441117
END:VEVENT
END:VCALENDAR
